BEGIN:VCALENDAR
VERSION:2.0
PRODID:-//Les Gnomes ludiques - ECPv6.15.20//NONSGML v1.0//EN
CALSCALE:GREGORIAN
METHOD:PUBLISH
X-ORIGINAL-URL:https://gnomes-ludiques.ch
X-WR-CALDESC:Évènements pour Les Gnomes ludiques
REFRESH-INTERVAL;VALUE=DURATION:PT1H
X-Robots-Tag:noindex
X-PUBLISHED-TTL:PT1H
BEGIN:VTIMEZONE
TZID:Europe/Paris
BEGIN:DAYLIGHT
TZOFFSETFROM:+0100
TZOFFSETTO:+0200
TZNAME:CEST
DTSTART:20250330T010000
END:DAYLIGHT
BEGIN:STANDARD
TZOFFSETFROM:+0200
TZOFFSETTO:+0100
TZNAME:CET
DTSTART:20251026T010000
END:STANDARD
BEGIN:DAYLIGHT
TZOFFSETFROM:+0100
TZOFFSETTO:+0200
TZNAME:CEST
DTSTART:20260329T010000
END:DAYLIGHT
BEGIN:STANDARD
TZOFFSETFROM:+0200
TZOFFSETTO:+0100
TZNAME:CET
DTSTART:20261025T010000
END:STANDARD
BEGIN:DAYLIGHT
TZOFFSETFROM:+0100
TZOFFSETTO:+0200
TZNAME:CEST
DTSTART:20270328T010000
END:DAYLIGHT
BEGIN:STANDARD
TZOFFSETFROM:+0200
TZOFFSETTO:+0100
TZNAME:CET
DTSTART:20271031T010000
END:STANDARD
END:VTIMEZONE
BEGIN:VEVENT
DTSTART;TZID=Europe/Paris:20260319T183000
DTEND;TZID=Europe/Paris:20260319T233000
DTSTAMP:20260421T073229
CREATED:20240617T143907Z
LAST-MODIFIED:20260322T021020Z
UID:10004478-1773945000-1773963000@gnomes-ludiques.ch
SUMMARY:DD5 Dragonlance - L'Ombre de la Reine des Dragons
DESCRIPTION:Dragonlance: L’ombre de la Reine des Dragons\, » vous incarnerez des héros au cœur d’une époque tumultueuse où la paix est fragile et l’obscurité menace de tout engloutir. Le royaume de Solamnie\, autrefois prospère\, est désormais sous la menace croissante de forces maléfiques. Les rumeurs d’une ancienne et puissante entité commencent à se répandre\, semant peur et chaos à travers le territoire.\n\nDragonlance est un monde de high fantasy extrêmement riche. Un récit de bravoure et de conflits vous attend\, parsemé de nombreuses créatures draconiques (beaucoup inédites)\, et où des forces tant politiques que magiques s’affrontent\, au-delà du cliché manichéen du bien contre le mal. Saurez-vous faire la différence et influer le cours d’une guerre qui dépasse les simples individus?
URL:https://gnomes-ludiques.ch/calendrier/dragonlance-lombre-de-la-reine-des-dragons/2026-03-19/
LOCATION:Les Gnomes Ludiques\, Rue de Lausanne 23A\, Genève\, Genève\, 1201\, Suisse
CATEGORIES:Jeu de rôle
ATTACH;FMTTYPE=image/jpeg:https://gnomes-ludiques.ch/wp-content/uploads/2024/06/Dargonlance.jpg
END:VEVENT
END:VCALENDAR