BEGIN:VCALENDAR
VERSION:2.0
PRODID:-//Les Gnomes ludiques - ECPv6.15.20//NONSGML v1.0//EN
CALSCALE:GREGORIAN
METHOD:PUBLISH
X-WR-CALNAME:Les Gnomes ludiques
X-ORIGINAL-URL:https://gnomes-ludiques.ch
X-WR-CALDESC:Évènements pour Les Gnomes ludiques
REFRESH-INTERVAL;VALUE=DURATION:PT1H
X-Robots-Tag:noindex
X-PUBLISHED-TTL:PT1H
BEGIN:VTIMEZONE
TZID:Europe/Paris
BEGIN:DAYLIGHT
TZOFFSETFROM:+0100
TZOFFSETTO:+0200
TZNAME:CEST
DTSTART:20250330T010000
END:DAYLIGHT
BEGIN:STANDARD
TZOFFSETFROM:+0200
TZOFFSETTO:+0100
TZNAME:CET
DTSTART:20251026T010000
END:STANDARD
BEGIN:DAYLIGHT
TZOFFSETFROM:+0100
TZOFFSETTO:+0200
TZNAME:CEST
DTSTART:20260329T010000
END:DAYLIGHT
BEGIN:STANDARD
TZOFFSETFROM:+0200
TZOFFSETTO:+0100
TZNAME:CET
DTSTART:20261025T010000
END:STANDARD
BEGIN:DAYLIGHT
TZOFFSETFROM:+0100
TZOFFSETTO:+0200
TZNAME:CEST
DTSTART:20270328T010000
END:DAYLIGHT
BEGIN:STANDARD
TZOFFSETFROM:+0200
TZOFFSETTO:+0100
TZNAME:CET
DTSTART:20271031T010000
END:STANDARD
END:VTIMEZONE
BEGIN:VEVENT
DTSTART;TZID=Europe/Paris:20260619T180000
DTEND;TZID=Europe/Paris:20260619T193000
DTSTAMP:20260420T223101
CREATED:20260306T162453Z
LAST-MODIFIED:20260322T020006Z
UID:10005082-1781892000-1781897400@gnomes-ludiques.ch
SUMMARY:PORTES OUVERTES
DESCRIPTION:Seriez-vous curieux(se) de découvrir nos activités ludiques ? \nSouhaiteriez-vous vous initier au jeu de rôle\, ou peut-être proposer vous-même une partie ? \nVous interrogez-vous sur notre fonctionnement ou sur la vie de notre association ? \nNous aurons le plaisir de vous accueillir lors de nos prochaines portes ouvertes\, qui se tiendront le vendredi 19 juin 2026\, de 18h00 à 19h30\, dans notre local de la Rue de Lausanne. \nUn membre du comité sera présent pour répondre à toutes vos questions et échanger avec vous. \nLudiquement vôtre.
URL:https://gnomes-ludiques.ch/calendrier/portes-ouvertes-2/
LOCATION:Les Gnomes Ludiques\, Rue de Lausanne 23A\, Genève\, Genève\, 1201\, Suisse
CATEGORIES:Jeu de rôle,Wargame
ATTACH;FMTTYPE=image/jpeg:https://gnomes-ludiques.ch/wp-content/uploads/2021/05/Facade-1.jpg
END:VEVENT
BEGIN:VEVENT
DTSTART;TZID=Europe/Paris:20260619T190000
DTEND;TZID=Europe/Paris:20260619T233000
DTSTAMP:20260420T223101
CREATED:20260322T013850Z
LAST-MODIFIED:20260322T015108Z
UID:10005183-1781895600-1781911800@gnomes-ludiques.ch
SUMMARY:Les Lames du Cardinal
DESCRIPTION:Les Lames du Cardinal est un jeu de rôle de cape et d’épée fantastique inspiré des romans de Pierre Pevel. Il se déroule dans une France du XVIIᵉ siècle alternative où des dragons\, dissimulés parmi les humains\, complotent contre le royaume via une société secrète. Les joueurs incarnent les Lames du Cardinal\, des agents d’élite chargés de déjouer ces intrigues. \nL’action du jeu se situe après les romans\, sous la régence d’Anne d’Autriche et de Mazarin\, qui s’appuie sur ces héros pour lutter contre les menaces politiques et surnaturelles.
URL:https://gnomes-ludiques.ch/calendrier/les-lames-du-cardinal/2026-06-19/
LOCATION:Gnomes Ludiques – Table 6 joueurs\, 23A Rue de Lausanne\, Genève\, Genève\, 1201\, Suisse
ATTACH;FMTTYPE=image/jpeg:https://gnomes-ludiques.ch/wp-content/uploads/2026/03/Lames-du-Cardinal.jpg
ORGANIZER;CN="Yvon":MAILTO:gnomesludisques at gmail.com
END:VEVENT
END:VCALENDAR