BEGIN:VCALENDAR
VERSION:2.0
PRODID:-//Les Gnomes ludiques - ECPv6.15.20//NONSGML v1.0//EN
CALSCALE:GREGORIAN
METHOD:PUBLISH
X-ORIGINAL-URL:https://gnomes-ludiques.ch
X-WR-CALDESC:Évènements pour Les Gnomes ludiques
REFRESH-INTERVAL;VALUE=DURATION:PT1H
X-Robots-Tag:noindex
X-PUBLISHED-TTL:PT1H
BEGIN:VTIMEZONE
TZID:Europe/Paris
BEGIN:DAYLIGHT
TZOFFSETFROM:+0100
TZOFFSETTO:+0200
TZNAME:CEST
DTSTART:20250330T010000
END:DAYLIGHT
BEGIN:STANDARD
TZOFFSETFROM:+0200
TZOFFSETTO:+0100
TZNAME:CET
DTSTART:20251026T010000
END:STANDARD
BEGIN:DAYLIGHT
TZOFFSETFROM:+0100
TZOFFSETTO:+0200
TZNAME:CEST
DTSTART:20260329T010000
END:DAYLIGHT
BEGIN:STANDARD
TZOFFSETFROM:+0200
TZOFFSETTO:+0100
TZNAME:CET
DTSTART:20261025T010000
END:STANDARD
BEGIN:DAYLIGHT
TZOFFSETFROM:+0100
TZOFFSETTO:+0200
TZNAME:CEST
DTSTART:20270328T010000
END:DAYLIGHT
BEGIN:STANDARD
TZOFFSETFROM:+0200
TZOFFSETTO:+0100
TZNAME:CET
DTSTART:20271031T010000
END:STANDARD
END:VTIMEZONE
BEGIN:VEVENT
DTSTART;TZID=Europe/Paris:20260501T183000
DTEND;TZID=Europe/Paris:20260501T233000
DTSTAMP:20260420T164151
CREATED:20230802T072246Z
LAST-MODIFIED:20260322T020951Z
UID:10004847-1777660200-1777678200@gnomes-ludiques.ch
SUMMARY:DD5 La Tombe de l'Annihilation
DESCRIPTION:Bienvenue Dans La jungle \nUne malédiction mortelle s’abat sur les morts déjà ramenés à la vie. Ils se mettent à pourrir et tous les efforts déployés pour enrayer la décomposition restent vains. \nLes âmes des trépassés sont maintenant volées à leur mort\, les unes après les autres\, et piégées dans un artefact nécromantique. \nCe n’est qu’en détruisant cette chose qu’elles seront libérées et que l’on pourra de nouveau ramener les défunts à la vie. \nTous les indices mènent au Chult\, un pays mystérieux fait de volcans\, de jungles et de ruines de royaumes déchus\, sous lequel un tombeau mortel attend ses victimes. Le piège est tendu\, mordrez-vous à l’appât ? \nCette partie est malheureusement complète\, mais si vous voulez rêver en notre compagnie\, d’autres MJ animent du DD5\, ou d’autres jeux de fantasy\, alors faites-nous signe via notre formulaire de contact.
URL:https://gnomes-ludiques.ch/calendrier/dd-la-tombe-de-lannihilation-2/2026-05-01/
LOCATION:Gnomes Ludiques – Table 8 joueurs\, Rue de Lausanne 23A\, Genève\, Genève\, 1201\, Suisse
CATEGORIES:Jeu de rôle
ATTACH;FMTTYPE=image/jpeg:https://gnomes-ludiques.ch/wp-content/uploads/2023/08/Tombe.jpg
ORGANIZER;CN="Olivier":MAILTO:gnomesludisques at gmail.com
END:VEVENT
BEGIN:VEVENT
DTSTART;TZID=Europe/Paris:20260502T130000
DTEND;TZID=Europe/Paris:20260502T170000
DTSTAMP:20260420T164151
CREATED:20230611T064709Z
LAST-MODIFIED:20260322T020217Z
UID:10004841-1777726800-1777741200@gnomes-ludiques.ch
SUMMARY:DD5 Peruga
DESCRIPTION:DD5 est l’édition la plus récente du célèbre jeu Donjons et Dragons\, où  des héros de divers peuples  affrontent d’innombrables monstres. Issus de peuples variés\, elfes gracieux\, nains robustes\, halfelins gourmands et joyeux\, demi-orcs\, et tant d’autres\, et avec des professions diverses\, guerriers\, mages\, bardes\, moines\, voleurs\, etc. ils deviennent plus puissants au fil des quêtes\, et jouent un rôle de plus en plus important dans le monde\, allant peut-être jusqu’à défier les dieux eux-mêmes… \nPour cette campagne\, l’idée est de créer des personnages complets avec passé tragique\, cicatrice au nombril et dessert préféré\, puis de les faire évoluer et interagir avec le monde des Royaumes Oubliés. \nCette partie est malheureusement complète\, mais si vous voulez rêver en notre compagnie\, d’autres MJ animent du DD5\, ou d’autres jeux de fantasy\, alors faites-nous signe via notre formulaire de contact.
URL:https://gnomes-ludiques.ch/calendrier/dd5-royaumes-oublies-2/2026-05-02/
LOCATION:Gnomes Ludiques – Table 6 joueurs\, 23A Rue de Lausanne\, Genève\, Genève\, 1201\, Suisse
CATEGORIES:Jeu de rôle
ATTACH;FMTTYPE=image/jpeg:https://gnomes-ludiques.ch/wp-content/uploads/2023/06/Peruga.jpg
ORGANIZER;CN="Gil":MAILTO:gnomesludisques at gmail.com
END:VEVENT
BEGIN:VEVENT
DTSTART;TZID=Europe/Paris:20260515T183000
DTEND;TZID=Europe/Paris:20260515T233000
DTSTAMP:20260420T164151
CREATED:20230802T072246Z
LAST-MODIFIED:20260322T020951Z
UID:10004848-1778869800-1778887800@gnomes-ludiques.ch
SUMMARY:DD5 La Tombe de l'Annihilation
DESCRIPTION:Bienvenue Dans La jungle \nUne malédiction mortelle s’abat sur les morts déjà ramenés à la vie. Ils se mettent à pourrir et tous les efforts déployés pour enrayer la décomposition restent vains. \nLes âmes des trépassés sont maintenant volées à leur mort\, les unes après les autres\, et piégées dans un artefact nécromantique. \nCe n’est qu’en détruisant cette chose qu’elles seront libérées et que l’on pourra de nouveau ramener les défunts à la vie. \nTous les indices mènent au Chult\, un pays mystérieux fait de volcans\, de jungles et de ruines de royaumes déchus\, sous lequel un tombeau mortel attend ses victimes. Le piège est tendu\, mordrez-vous à l’appât ? \nCette partie est malheureusement complète\, mais si vous voulez rêver en notre compagnie\, d’autres MJ animent du DD5\, ou d’autres jeux de fantasy\, alors faites-nous signe via notre formulaire de contact.
URL:https://gnomes-ludiques.ch/calendrier/dd-la-tombe-de-lannihilation-2/2026-05-15/
LOCATION:Gnomes Ludiques – Table 8 joueurs\, Rue de Lausanne 23A\, Genève\, Genève\, 1201\, Suisse
CATEGORIES:Jeu de rôle
ATTACH;FMTTYPE=image/jpeg:https://gnomes-ludiques.ch/wp-content/uploads/2023/08/Tombe.jpg
ORGANIZER;CN="Olivier":MAILTO:gnomesludisques at gmail.com
END:VEVENT
BEGIN:VEVENT
DTSTART;TZID=Europe/Paris:20260516T130000
DTEND;TZID=Europe/Paris:20260516T170000
DTSTAMP:20260420T164151
CREATED:20230611T064709Z
LAST-MODIFIED:20260322T020217Z
UID:10004842-1778936400-1778950800@gnomes-ludiques.ch
SUMMARY:DD5 Peruga
DESCRIPTION:DD5 est l’édition la plus récente du célèbre jeu Donjons et Dragons\, où  des héros de divers peuples  affrontent d’innombrables monstres. Issus de peuples variés\, elfes gracieux\, nains robustes\, halfelins gourmands et joyeux\, demi-orcs\, et tant d’autres\, et avec des professions diverses\, guerriers\, mages\, bardes\, moines\, voleurs\, etc. ils deviennent plus puissants au fil des quêtes\, et jouent un rôle de plus en plus important dans le monde\, allant peut-être jusqu’à défier les dieux eux-mêmes… \nPour cette campagne\, l’idée est de créer des personnages complets avec passé tragique\, cicatrice au nombril et dessert préféré\, puis de les faire évoluer et interagir avec le monde des Royaumes Oubliés. \nCette partie est malheureusement complète\, mais si vous voulez rêver en notre compagnie\, d’autres MJ animent du DD5\, ou d’autres jeux de fantasy\, alors faites-nous signe via notre formulaire de contact.
URL:https://gnomes-ludiques.ch/calendrier/dd5-royaumes-oublies-2/2026-05-16/
LOCATION:Gnomes Ludiques – Table 6 joueurs\, 23A Rue de Lausanne\, Genève\, Genève\, 1201\, Suisse
CATEGORIES:Jeu de rôle
ATTACH;FMTTYPE=image/jpeg:https://gnomes-ludiques.ch/wp-content/uploads/2023/06/Peruga.jpg
ORGANIZER;CN="Gil":MAILTO:gnomesludisques at gmail.com
END:VEVENT
BEGIN:VEVENT
DTSTART;TZID=Europe/Paris:20260529T183000
DTEND;TZID=Europe/Paris:20260529T233000
DTSTAMP:20260420T164151
CREATED:20230802T072246Z
LAST-MODIFIED:20260322T020951Z
UID:10004849-1780079400-1780097400@gnomes-ludiques.ch
SUMMARY:DD5 La Tombe de l'Annihilation
DESCRIPTION:Bienvenue Dans La jungle \nUne malédiction mortelle s’abat sur les morts déjà ramenés à la vie. Ils se mettent à pourrir et tous les efforts déployés pour enrayer la décomposition restent vains. \nLes âmes des trépassés sont maintenant volées à leur mort\, les unes après les autres\, et piégées dans un artefact nécromantique. \nCe n’est qu’en détruisant cette chose qu’elles seront libérées et que l’on pourra de nouveau ramener les défunts à la vie. \nTous les indices mènent au Chult\, un pays mystérieux fait de volcans\, de jungles et de ruines de royaumes déchus\, sous lequel un tombeau mortel attend ses victimes. Le piège est tendu\, mordrez-vous à l’appât ? \nCette partie est malheureusement complète\, mais si vous voulez rêver en notre compagnie\, d’autres MJ animent du DD5\, ou d’autres jeux de fantasy\, alors faites-nous signe via notre formulaire de contact.
URL:https://gnomes-ludiques.ch/calendrier/dd-la-tombe-de-lannihilation-2/2026-05-29/
LOCATION:Gnomes Ludiques – Table 8 joueurs\, Rue de Lausanne 23A\, Genève\, Genève\, 1201\, Suisse
CATEGORIES:Jeu de rôle
ATTACH;FMTTYPE=image/jpeg:https://gnomes-ludiques.ch/wp-content/uploads/2023/08/Tombe.jpg
ORGANIZER;CN="Olivier":MAILTO:gnomesludisques at gmail.com
END:VEVENT
BEGIN:VEVENT
DTSTART;TZID=Europe/Paris:20260530T130000
DTEND;TZID=Europe/Paris:20260530T170000
DTSTAMP:20260420T164151
CREATED:20230611T064709Z
LAST-MODIFIED:20260322T020217Z
UID:10004843-1780146000-1780160400@gnomes-ludiques.ch
SUMMARY:DD5 Peruga
DESCRIPTION:DD5 est l’édition la plus récente du célèbre jeu Donjons et Dragons\, où  des héros de divers peuples  affrontent d’innombrables monstres. Issus de peuples variés\, elfes gracieux\, nains robustes\, halfelins gourmands et joyeux\, demi-orcs\, et tant d’autres\, et avec des professions diverses\, guerriers\, mages\, bardes\, moines\, voleurs\, etc. ils deviennent plus puissants au fil des quêtes\, et jouent un rôle de plus en plus important dans le monde\, allant peut-être jusqu’à défier les dieux eux-mêmes… \nPour cette campagne\, l’idée est de créer des personnages complets avec passé tragique\, cicatrice au nombril et dessert préféré\, puis de les faire évoluer et interagir avec le monde des Royaumes Oubliés. \nCette partie est malheureusement complète\, mais si vous voulez rêver en notre compagnie\, d’autres MJ animent du DD5\, ou d’autres jeux de fantasy\, alors faites-nous signe via notre formulaire de contact.
URL:https://gnomes-ludiques.ch/calendrier/dd5-royaumes-oublies-2/2026-05-30/
LOCATION:Gnomes Ludiques – Table 6 joueurs\, 23A Rue de Lausanne\, Genève\, Genève\, 1201\, Suisse
CATEGORIES:Jeu de rôle
ATTACH;FMTTYPE=image/jpeg:https://gnomes-ludiques.ch/wp-content/uploads/2023/06/Peruga.jpg
ORGANIZER;CN="Gil":MAILTO:gnomesludisques at gmail.com
END:VEVENT
BEGIN:VEVENT
DTSTART;TZID=Europe/Paris:20260612T183000
DTEND;TZID=Europe/Paris:20260612T233000
DTSTAMP:20260420T164151
CREATED:20230802T072246Z
LAST-MODIFIED:20260322T020951Z
UID:10004850-1781289000-1781307000@gnomes-ludiques.ch
SUMMARY:DD5 La Tombe de l'Annihilation
DESCRIPTION:Bienvenue Dans La jungle \nUne malédiction mortelle s’abat sur les morts déjà ramenés à la vie. Ils se mettent à pourrir et tous les efforts déployés pour enrayer la décomposition restent vains. \nLes âmes des trépassés sont maintenant volées à leur mort\, les unes après les autres\, et piégées dans un artefact nécromantique. \nCe n’est qu’en détruisant cette chose qu’elles seront libérées et que l’on pourra de nouveau ramener les défunts à la vie. \nTous les indices mènent au Chult\, un pays mystérieux fait de volcans\, de jungles et de ruines de royaumes déchus\, sous lequel un tombeau mortel attend ses victimes. Le piège est tendu\, mordrez-vous à l’appât ? \nCette partie est malheureusement complète\, mais si vous voulez rêver en notre compagnie\, d’autres MJ animent du DD5\, ou d’autres jeux de fantasy\, alors faites-nous signe via notre formulaire de contact.
URL:https://gnomes-ludiques.ch/calendrier/dd-la-tombe-de-lannihilation-2/2026-06-12/
LOCATION:Gnomes Ludiques – Table 8 joueurs\, Rue de Lausanne 23A\, Genève\, Genève\, 1201\, Suisse
CATEGORIES:Jeu de rôle
ATTACH;FMTTYPE=image/jpeg:https://gnomes-ludiques.ch/wp-content/uploads/2023/08/Tombe.jpg
ORGANIZER;CN="Olivier":MAILTO:gnomesludisques at gmail.com
END:VEVENT
BEGIN:VEVENT
DTSTART;TZID=Europe/Paris:20260613T130000
DTEND;TZID=Europe/Paris:20260613T170000
DTSTAMP:20260420T164151
CREATED:20230611T064709Z
LAST-MODIFIED:20260322T020217Z
UID:10004844-1781355600-1781370000@gnomes-ludiques.ch
SUMMARY:DD5 Peruga
DESCRIPTION:DD5 est l’édition la plus récente du célèbre jeu Donjons et Dragons\, où  des héros de divers peuples  affrontent d’innombrables monstres. Issus de peuples variés\, elfes gracieux\, nains robustes\, halfelins gourmands et joyeux\, demi-orcs\, et tant d’autres\, et avec des professions diverses\, guerriers\, mages\, bardes\, moines\, voleurs\, etc. ils deviennent plus puissants au fil des quêtes\, et jouent un rôle de plus en plus important dans le monde\, allant peut-être jusqu’à défier les dieux eux-mêmes… \nPour cette campagne\, l’idée est de créer des personnages complets avec passé tragique\, cicatrice au nombril et dessert préféré\, puis de les faire évoluer et interagir avec le monde des Royaumes Oubliés. \nCette partie est malheureusement complète\, mais si vous voulez rêver en notre compagnie\, d’autres MJ animent du DD5\, ou d’autres jeux de fantasy\, alors faites-nous signe via notre formulaire de contact.
URL:https://gnomes-ludiques.ch/calendrier/dd5-royaumes-oublies-2/2026-06-13/
LOCATION:Gnomes Ludiques – Table 6 joueurs\, 23A Rue de Lausanne\, Genève\, Genève\, 1201\, Suisse
CATEGORIES:Jeu de rôle
ATTACH;FMTTYPE=image/jpeg:https://gnomes-ludiques.ch/wp-content/uploads/2023/06/Peruga.jpg
ORGANIZER;CN="Gil":MAILTO:gnomesludisques at gmail.com
END:VEVENT
BEGIN:VEVENT
DTSTART;TZID=Europe/Paris:20260626T183000
DTEND;TZID=Europe/Paris:20260626T233000
DTSTAMP:20260420T164151
CREATED:20230802T072246Z
LAST-MODIFIED:20260322T020951Z
UID:10004851-1782498600-1782516600@gnomes-ludiques.ch
SUMMARY:DD5 La Tombe de l'Annihilation
DESCRIPTION:Bienvenue Dans La jungle \nUne malédiction mortelle s’abat sur les morts déjà ramenés à la vie. Ils se mettent à pourrir et tous les efforts déployés pour enrayer la décomposition restent vains. \nLes âmes des trépassés sont maintenant volées à leur mort\, les unes après les autres\, et piégées dans un artefact nécromantique. \nCe n’est qu’en détruisant cette chose qu’elles seront libérées et que l’on pourra de nouveau ramener les défunts à la vie. \nTous les indices mènent au Chult\, un pays mystérieux fait de volcans\, de jungles et de ruines de royaumes déchus\, sous lequel un tombeau mortel attend ses victimes. Le piège est tendu\, mordrez-vous à l’appât ? \nCette partie est malheureusement complète\, mais si vous voulez rêver en notre compagnie\, d’autres MJ animent du DD5\, ou d’autres jeux de fantasy\, alors faites-nous signe via notre formulaire de contact.
URL:https://gnomes-ludiques.ch/calendrier/dd-la-tombe-de-lannihilation-2/2026-06-26/
LOCATION:Gnomes Ludiques – Table 8 joueurs\, Rue de Lausanne 23A\, Genève\, Genève\, 1201\, Suisse
CATEGORIES:Jeu de rôle
ATTACH;FMTTYPE=image/jpeg:https://gnomes-ludiques.ch/wp-content/uploads/2023/08/Tombe.jpg
ORGANIZER;CN="Olivier":MAILTO:gnomesludisques at gmail.com
END:VEVENT
BEGIN:VEVENT
DTSTART;TZID=Europe/Paris:20260627T130000
DTEND;TZID=Europe/Paris:20260627T170000
DTSTAMP:20260420T164151
CREATED:20230611T064709Z
LAST-MODIFIED:20260322T020217Z
UID:10004845-1782565200-1782579600@gnomes-ludiques.ch
SUMMARY:DD5 Peruga
DESCRIPTION:DD5 est l’édition la plus récente du célèbre jeu Donjons et Dragons\, où  des héros de divers peuples  affrontent d’innombrables monstres. Issus de peuples variés\, elfes gracieux\, nains robustes\, halfelins gourmands et joyeux\, demi-orcs\, et tant d’autres\, et avec des professions diverses\, guerriers\, mages\, bardes\, moines\, voleurs\, etc. ils deviennent plus puissants au fil des quêtes\, et jouent un rôle de plus en plus important dans le monde\, allant peut-être jusqu’à défier les dieux eux-mêmes… \nPour cette campagne\, l’idée est de créer des personnages complets avec passé tragique\, cicatrice au nombril et dessert préféré\, puis de les faire évoluer et interagir avec le monde des Royaumes Oubliés. \nCette partie est malheureusement complète\, mais si vous voulez rêver en notre compagnie\, d’autres MJ animent du DD5\, ou d’autres jeux de fantasy\, alors faites-nous signe via notre formulaire de contact.
URL:https://gnomes-ludiques.ch/calendrier/dd5-royaumes-oublies-2/2026-06-27/
LOCATION:Gnomes Ludiques – Table 6 joueurs\, 23A Rue de Lausanne\, Genève\, Genève\, 1201\, Suisse
CATEGORIES:Jeu de rôle
ATTACH;FMTTYPE=image/jpeg:https://gnomes-ludiques.ch/wp-content/uploads/2023/06/Peruga.jpg
ORGANIZER;CN="Gil":MAILTO:gnomesludisques at gmail.com
END:VEVENT
END:VCALENDAR