BEGIN:VCALENDAR
VERSION:2.0
PRODID:-//Les Gnomes ludiques - ECPv6.15.20//NONSGML v1.0//EN
CALSCALE:GREGORIAN
METHOD:PUBLISH
X-WR-CALNAME:Les Gnomes ludiques
X-ORIGINAL-URL:https://gnomes-ludiques.ch
X-WR-CALDESC:Évènements pour Les Gnomes ludiques
REFRESH-INTERVAL;VALUE=DURATION:PT1H
X-Robots-Tag:noindex
X-PUBLISHED-TTL:PT1H
BEGIN:VTIMEZONE
TZID:Europe/Paris
BEGIN:DAYLIGHT
TZOFFSETFROM:+0100
TZOFFSETTO:+0200
TZNAME:CEST
DTSTART:20250330T010000
END:DAYLIGHT
BEGIN:STANDARD
TZOFFSETFROM:+0200
TZOFFSETTO:+0100
TZNAME:CET
DTSTART:20251026T010000
END:STANDARD
BEGIN:DAYLIGHT
TZOFFSETFROM:+0100
TZOFFSETTO:+0200
TZNAME:CEST
DTSTART:20260329T010000
END:DAYLIGHT
BEGIN:STANDARD
TZOFFSETFROM:+0200
TZOFFSETTO:+0100
TZNAME:CET
DTSTART:20261025T010000
END:STANDARD
BEGIN:DAYLIGHT
TZOFFSETFROM:+0100
TZOFFSETTO:+0200
TZNAME:CEST
DTSTART:20270328T010000
END:DAYLIGHT
BEGIN:STANDARD
TZOFFSETFROM:+0200
TZOFFSETTO:+0100
TZNAME:CET
DTSTART:20271031T010000
END:STANDARD
END:VTIMEZONE
BEGIN:VEVENT
DTSTART;TZID=Europe/Paris:20260417T180000
DTEND;TZID=Europe/Paris:20260417T193000
DTSTAMP:20260421T070851
CREATED:20260306T162152Z
LAST-MODIFIED:20260322T014847Z
UID:10005081-1776448800-1776454200@gnomes-ludiques.ch
SUMMARY:PORTES OUVERTES
DESCRIPTION:Seriez-vous curieux(se) de découvrir nos activités ludiques ? \nSouhaiteriez-vous vous initier au jeu de rôle\, ou peut-être proposer vous-même une partie ? \nVous interrogez-vous sur notre fonctionnement ou sur la vie de notre association ? \nNous aurons le plaisir de vous accueillir lors de nos prochaines portes ouvertes\, qui se tiendront le vendredi 19 juin 2026\, de 18h00 à 19h30\, dans notre local de la Rue de Lausanne. \nUn membre du comité sera présent pour répondre à toutes vos questions et échanger avec vous. \nLudiquement vôtre.
URL:https://gnomes-ludiques.ch/calendrier/portes-ouvertes/
LOCATION:Les Gnomes Ludiques\, Rue de Lausanne 23A\, Genève\, Genève\, 1201\, Suisse
CATEGORIES:Jeu de rôle,Wargame
ATTACH;FMTTYPE=image/jpeg:https://gnomes-ludiques.ch/wp-content/uploads/2021/05/Facade-1.jpg
END:VEVENT
END:VCALENDAR