BEGIN:VCALENDAR
VERSION:2.0
PRODID:-//Les Gnomes ludiques - ECPv6.15.20//NONSGML v1.0//EN
CALSCALE:GREGORIAN
METHOD:PUBLISH
X-ORIGINAL-URL:https://gnomes-ludiques.ch
X-WR-CALDESC:Évènements pour Les Gnomes ludiques
REFRESH-INTERVAL;VALUE=DURATION:PT1H
X-Robots-Tag:noindex
X-PUBLISHED-TTL:PT1H
BEGIN:VTIMEZONE
TZID:Europe/Paris
BEGIN:DAYLIGHT
TZOFFSETFROM:+0100
TZOFFSETTO:+0200
TZNAME:CEST
DTSTART:20250330T010000
END:DAYLIGHT
BEGIN:STANDARD
TZOFFSETFROM:+0200
TZOFFSETTO:+0100
TZNAME:CET
DTSTART:20251026T010000
END:STANDARD
BEGIN:DAYLIGHT
TZOFFSETFROM:+0100
TZOFFSETTO:+0200
TZNAME:CEST
DTSTART:20260329T010000
END:DAYLIGHT
BEGIN:STANDARD
TZOFFSETFROM:+0200
TZOFFSETTO:+0100
TZNAME:CET
DTSTART:20261025T010000
END:STANDARD
BEGIN:DAYLIGHT
TZOFFSETFROM:+0100
TZOFFSETTO:+0200
TZNAME:CEST
DTSTART:20270328T010000
END:DAYLIGHT
BEGIN:STANDARD
TZOFFSETFROM:+0200
TZOFFSETTO:+0100
TZNAME:CET
DTSTART:20271031T010000
END:STANDARD
END:VTIMEZONE
BEGIN:VEVENT
DTSTART;TZID=Europe/Paris:20260401T183000
DTEND;TZID=Europe/Paris:20260401T233000
DTSTAMP:20260421T073230
CREATED:20260306T120926Z
LAST-MODIFIED:20260322T015906Z
UID:10005015-1775068200-1775086200@gnomes-ludiques.ch
SUMMARY:Les Héritiers - Le Paris des Merveilles
DESCRIPTION:Les Héritiers est un jeu de rôle fantastique où se croisent merveilleux arthurien et parfums occultes. Il met en scène des créatures d’apparence humaine mais dont la nature véritable est magique. Le cadre historique est celui de l’Europe\, entre 1900 et 1914. \nParis\, la Belle Époque\, avec ses monocles\, ses chapeaux haut-de-forme\, ses robes raffinées mais aussi les premières automobiles et le déploiement de l’électricité. Dans les replis de la société humaine se cachent les Faux-Semblants : des Fées classiques (tels que les elfes\, ogres\, korrigans\, vampyrs) ou modernes (fées électricité\, smogs\, fleurs de métal). Vous incarnez l’une de ces créatures\, cachant sous une apparence humaine son identité réelle. \nSous leur forme humaine\, les Faux-Semblants disposent de pouvoirs surnaturels leur donnant un avantage certain ; sous forme féérique\, ceux-ci sont encore plus spectaculaires. Mais mieux vaut être discret dans leur usage. Car\, dans l’ombre\, des chasseurs traquent vos semblables. \nLe vaste choix d’archétypes féériques associés à deux profils de personnalisation permet de créer des personnages sur mesure. Voulez-vous incarner un ogre combattant-roublard ou gentleman-érudit ? Le choix vous appartient ! \n2 places sont actuellement disponibles dans une campagne qui se joue une semaine sur deux. En cas d’intérêt\, envoyez nous un message via notre formulaire de contact.
URL:https://gnomes-ludiques.ch/calendrier/les-heritiers-le-paris-des-merveilles-2/2026-04-01/
LOCATION:Les Gnomes Ludiques\, Rue de Lausanne 23A\, Genève\, Genève\, 1201\, Suisse
CATEGORIES:Jeu de rôle
ATTACH;FMTTYPE=image/jpeg:https://gnomes-ludiques.ch/wp-content/uploads/2026/03/Les-Heritiers-1.jpg
ORGANIZER;CN="Olivier":MAILTO:gnomesludisques at gmail.com
END:VEVENT
END:VCALENDAR